BEGIN:VCALENDAR
VERSION:2.0
PRODID:-//Bürgervereingung Alt-Münster e.V. - ECPv6.15.18//NONSGML v1.0//EN
CALSCALE:GREGORIAN
METHOD:PUBLISH
X-WR-CALNAME:Bürgervereingung Alt-Münster e.V.
X-ORIGINAL-URL:https://bv-altmuenster.de
X-WR-CALDESC:Veranstaltungen für Bürgervereingung Alt-Münster e.V.
REFRESH-INTERVAL;VALUE=DURATION:PT1H
X-Robots-Tag:noindex
X-PUBLISHED-TTL:PT1H
BEGIN:VTIMEZONE
TZID:Europe/Berlin
BEGIN:DAYLIGHT
TZOFFSETFROM:+0100
TZOFFSETTO:+0200
TZNAME:CEST
DTSTART:20240331T010000
END:DAYLIGHT
BEGIN:STANDARD
TZOFFSETFROM:+0200
TZOFFSETTO:+0100
TZNAME:CET
DTSTART:20241027T010000
END:STANDARD
BEGIN:DAYLIGHT
TZOFFSETFROM:+0100
TZOFFSETTO:+0200
TZNAME:CEST
DTSTART:20250330T010000
END:DAYLIGHT
BEGIN:STANDARD
TZOFFSETFROM:+0200
TZOFFSETTO:+0100
TZNAME:CET
DTSTART:20251026T010000
END:STANDARD
BEGIN:DAYLIGHT
TZOFFSETFROM:+0100
TZOFFSETTO:+0200
TZNAME:CEST
DTSTART:20260329T010000
END:DAYLIGHT
BEGIN:STANDARD
TZOFFSETFROM:+0200
TZOFFSETTO:+0100
TZNAME:CET
DTSTART:20261025T010000
END:STANDARD
END:VTIMEZONE
BEGIN:VEVENT
DTSTART;TZID=Europe/Berlin:20251024T180000
DTEND;TZID=Europe/Berlin:20251024T233000
DTSTAMP:20260425T003444
CREATED:20251010T150027Z
LAST-MODIFIED:20251010T150936Z
UID:3196-1761328800-1761348600@bv-altmuenster.de
SUMMARY:50 Jahre BVAM: Jubiläumsfeier
DESCRIPTION:Wir laden alle Vereinsmitglieder herzlich ein\, mit uns das 50-jährige Bestehen der Bürgervereinigung Alt-Münster zu feiern. Los geht’s um 18 Uhr im Schlungssaal des Feuerwehrhauses Münster. Hier die komplette Pressemitteilung.
URL:https://bv-altmuenster.de/event/50-jahre-bvam-jubilaeumsfeier/
LOCATION:Schulungsaal des Feuerwehrhauses\, Benzstraße 2\, Kelkheim (Taunus)\, Hessen\, 65779\, Germany
END:VEVENT
END:VCALENDAR